BEGIN:VCALENDAR
VERSION:2.0
PRODID:-//Grant County - ECPv6.15.20//NONSGML v1.0//EN
CALSCALE:GREGORIAN
METHOD:PUBLISH
X-WR-CALNAME:Grant County
X-ORIGINAL-URL:https://grantcountyne.gov
X-WR-CALDESC:Events for Grant County
REFRESH-INTERVAL;VALUE=DURATION:PT1H
X-Robots-Tag:noindex
X-PUBLISHED-TTL:PT1H
BEGIN:VTIMEZONE
TZID:America/Chicago
BEGIN:DAYLIGHT
TZOFFSETFROM:-0600
TZOFFSETTO:-0500
TZNAME:CDT
DTSTART:20290311T080000
END:DAYLIGHT
BEGIN:STANDARD
TZOFFSETFROM:-0500
TZOFFSETTO:-0600
TZNAME:CST
DTSTART:20291104T070000
END:STANDARD
BEGIN:DAYLIGHT
TZOFFSETFROM:-0600
TZOFFSETTO:-0500
TZNAME:CDT
DTSTART:20300310T080000
END:DAYLIGHT
BEGIN:STANDARD
TZOFFSETFROM:-0500
TZOFFSETTO:-0600
TZNAME:CST
DTSTART:20301103T070000
END:STANDARD
BEGIN:DAYLIGHT
TZOFFSETFROM:-0600
TZOFFSETTO:-0500
TZNAME:CDT
DTSTART:20310309T080000
END:DAYLIGHT
BEGIN:STANDARD
TZOFFSETFROM:-0500
TZOFFSETTO:-0600
TZNAME:CST
DTSTART:20311102T070000
END:STANDARD
END:VTIMEZONE
BEGIN:VEVENT
DTSTART;TZID=America/Chicago:20300101T000000
DTEND;TZID=America/Chicago:20300101T235959
DTSTAMP:20260421T194726
CREATED:20240730T171545Z
LAST-MODIFIED:20241212T180449Z
UID:10000402-1893456000-1893542399@grantcountyne.gov
SUMMARY:New Year's Day - Closed
DESCRIPTION:All Offices Closed
URL:https://grantcountyne.gov/event/new-years-day/2030-01-01/
LOCATION:NE
CATEGORIES:Holiday
END:VEVENT
BEGIN:VEVENT
DTSTART;VALUE=DATE:20300108
DTEND;VALUE=DATE:20300109
DTSTAMP:20260421T194726
CREATED:20241212T180308Z
LAST-MODIFIED:20250523T194516Z
UID:10000403-1894060800-1894147199@grantcountyne.gov
SUMMARY:County Board Meeting
DESCRIPTION:This is a county board meeting. An agenda can be found on the Board Meetings page.
URL:https://grantcountyne.gov/event/county-board-meeting-2/2030-01-08/
LOCATION:Courthouse – Board Room\, 105 E Harrison St\, Hyannis\, NE\, 69350\, United States
CATEGORIES:County Board Meeting
END:VEVENT
BEGIN:VEVENT
DTSTART;TZID=America/Chicago:20300121T080000
DTEND;TZID=America/Chicago:20300121T170000
DTSTAMP:20260421T194726
CREATED:20240730T171350Z
LAST-MODIFIED:20241212T180445Z
UID:10000429-1895212800-1895245200@grantcountyne.gov
SUMMARY:Martin Luther King Jr. Day - Closed
DESCRIPTION:All Offices Closed.
URL:https://grantcountyne.gov/event/martin-luther-king-jr-day/2030-01-21/
LOCATION:NE
CATEGORIES:Holiday
END:VEVENT
END:VCALENDAR